BEGIN:VCALENDAR
VERSION:2.0
PRODID:-//Sophicity/Tribune/Sharpsburg, GA
BEGIN:VEVENT
DTSTAMP:20260425T232121Z
UID:8b31da36-3e03-4c4b-a3f9-60deab25f0f7-4046
DTSTART:20260914T220000Z
DTEND:20260914T230000Z
CLASS:PUBLIC
SUMMARY:Town Council Meeting
END:VEVENT
END:VCALENDAR
