BEGIN:VCALENDAR
VERSION:2.0
PRODID:-//Sophicity/Tribune/Sharpsburg, GA
BEGIN:VEVENT
DTSTAMP:20260425T200047Z
UID:8b31da36-3e03-4c4b-a3f9-60deab25f0f7-4038
DTSTART:20260105T230000Z
DTEND:20260106T000000Z
CLASS:PUBLIC
SUMMARY:Town Council Meeting
END:VEVENT
END:VCALENDAR
