BEGIN:VCALENDAR
VERSION:2.0
PRODID:-//Sophicity/Tribune/Sharpsburg, GA
BEGIN:VEVENT
DTSTAMP:20260426T023231Z
UID:8b31da36-3e03-4c4b-a3f9-60deab25f0f7-3879
DTSTART:20230904T120000Z
DTEND:20230904T210000Z
CLASS:PUBLIC
SUMMARY:Labor Day - Town Hall Closed
END:VEVENT
END:VCALENDAR
