BEGIN:VCALENDAR
VERSION:2.0
PRODID:-//Sophicity/Tribune/Sharpsburg, GA
BEGIN:VEVENT
DTSTAMP:20260426T005647Z
UID:8b31da36-3e03-4c4b-a3f9-60deab25f0f7-3729
DTSTART:20210515T130000Z
DTEND:20210515T190000Z
CLASS:PUBLIC
SUMMARY:Sharpsburg Market
END:VEVENT
END:VCALENDAR
